Workbook

Sheet rekap
A1: REKAP LAPORAN REKAPAN DATA JUMLAH PENGHUNI RUSUNAWA
A2: TAHUN 2025 (Triwulan 2)
A3: No | B3: Rusunawa | C3: Hunian Total | D3: Hunian Emergency / Rusak | E3: Jumlah Terhuni | F3: Persentanse Terhuni
A4: 1 | B4: Bulusidokare | C4: =Sheet1!C9 -> 226 | D4: =SUM(Sheet1!G9:H9) -> 83 | E4: =Sheet1!D9 -> 115 | F4: =(E4/(C4-D4))*100 -> 80.41958
A5: 2 | B5: Pucang | C5: =Sheet1!C22 -> 297 | D5: =SUM(Sheet1!G22,Sheet1!H22) -> 11 | E5: =Sheet1!D22 -> 221 | F5: =(E5/(C5-D5))*100 -> 77.272727
A6: 3 | B6: Ngelom | C6: =Sheet1!C37 -> 466 | D6: =SUM(Sheet1!G37,Sheet1!H37) -> 62 | E6: =Sheet1!D37 -> 384 | F6: =(E6/(C6-D6))*100 -> 95.049505
A7: 4 | B7: Wonocolo | C7: =Sheet1!C51 -> 396 | D7: =SUM(Sheet1!G51:H51) -> 22 | E7: =Sheet1!D51 -> 279 | F7: =(E7/(C7-D7))*100 -> 74.59893
A8: 5 | B8: Tambaksawah | C8: =Sheet1!C70 -> 400 | D8: =SUM(Sheet1!G70,Sheet1!H70) -> 0 | E8: =Sheet1!D70 -> 269 | F8: =(E8/(C8-D8))*100 -> 67.25
A9: 6 | B9: Tambakkemerakan | C9: =Sheet1!C81 -> 110 | D9: =SUM(Sheet1!G81:H81) -> 5 | E9: =Sheet1!D81 -> 21 | F9: =(E9/(C9-D9))*100 -> 20
B10: TOTAL | C10: =SUM(C4:C9) -> 1895 | D10: =SUM(D4:D9) -> 183 | E10: =SUM(E4:E9) -> 1289 | F10: =(E10/(C10-D10))*100 -> 75.292056

Sheet Sheet1
A1: LAPORAN REKAPAN DATA JUMLAH PENGHUNI
A2: RUSUNAWA Bulusidokare
A3: TAHUN 2025
A4: Bulan : Desember 2025
A5: No. | B5: Twin Blok | C5: Hunian | D5: Penghuni Sekarang | E5: Penghuni Masuk | F5: Penghuni Keluar | G5: Hunian Rusak | H5: Transit | I5: Hunian Tersedia | J5: TOTAL
A6: 1 | B6: A | C6: 58 | D6: 0 | E6: 0 | F6: 0 | G6: 58 | H6: 0 | I6: 0 | J6: =D6+G6+H6+I6 -> 58
A7: 2 | B7: B | C7: 99 | D7: 54 | E7: 0 | F7: 2 | G7: 20 | I7: 25 | J7: =D7+G7+H7+I7 -> 99
A8: 3 | B8: C | C8: 69 | D8: 61 | E8: 2 | F8: 0 | G8: 5 | I8: 3 | J8: =D8+G8+H8+I8 -> 69
A9: TOTAL | C9: =SUM(C6:C8) -> 226 | D9: =SUM(D6:D8) -> 115 | E9: =SUM(E6:E8) -> 2 | F9: =SUM(F6:F8) -> 2 | G9: =SUM(G6:G8) -> 83 | H9: =SUM(H6:H8) -> 0 | I9: =SUM(I6:I8) -> 28 | J9: =D9+G9+H9+I9 -> 226 | K9: 0.52
A11: Keterangan : Laporan tersebut didasarkan pada perhitungan tiap akhir bulan
A14: LAPORAN REKAPAN DATA JUMLAH PENGHUNI
A15: RUSUNAWA Pucang
A16: TAHUN 2025
A17: =$A$4 -> Bulan : Desember 2025
A18: No. | B18: Twin Blok | C18: Hunian | D18: Penghuni Sekarang | E18: Penghuni Masuk | F18: Penghuni Keluar | G18: Hunian Rusak | H18: Transit | I18: Hunian Tersedia | J18: TOTAL
A19: 1 | B19: A | C19: 99 | D19: 77 | E19: 0 | F19: 1 | G19: 4 | H19: 0 | I19: 18 | J19: =D19+G19+H19+I19 -> 99
A20: 2 | B20: B | C20: 99 | D20: 71 | E20: 0 | F20: 1 | G20: 2 | H20: 0 | I20: 26 | J20: =D20+G20+H20+I20 -> 99
A21: 3 | B21: C | C21: 99 | D21: 73 | E21: 1 | F21: 4 | G21: 5 | H21: 0 | I21: 21 | J21: =D21+G21+H21+I21 -> 99
A22: TOTAL | C22: =SUM(C19:C21) -> 297 | D22: =SUM(D19:D21) -> 221 | E22: =SUM(E19:E21) -> 1 | F22: =SUM(F19:F21) -> 6 | G22: =SUM(G19:G21) -> 11 | H22: =SUM(H19:H21) -> 0 | I22: =SUM(I19:I21) -> 65 | J22: =D22+G22+H22+I22 -> 297
A24: Keterangan : Laporan tersebut didasarkan pada perhitungan tiap akhir bulan
A27: LAPORAN REKAPAN DATA JUMLAH PENGHUNI
A28: RUSUNAWA NGELOM
A29: TAHUN 2025
A30: =$A$4 -> Bulan : Desember 2025
A31: No. | B31: Twin Blok | C31: Jumlah Hunian total | D31: Penghuni Sekarang | E31: Penghuni Masuk | F31: Penghuni Keluar | G31: Hunian Rusak | H31: Transit | I31: Hunian Tersedia | J31: TOTAL
A32: 1 | B32: A | C32: =3+24+24+24+24 -> 99 | D32: 75 | E32: 0 | F32: 0 | G32: 23 | H32: 0 | I32: 1 | J32: =D32+G32+H32+I32 -> 99
A33: 2 | B33: B | C33: =3+24+24+24+24 -> 99 | D33: 75 | E33: 0 | F33: 0 | G33: 17 | H33: 0 | I33: 7 | J33: =D33+G33+H33+I33 -> 99
A34: 3 | B34: C | C34: =3+24+24+24+24 -> 99 | D34: 87 | E34: 0 | F34: 0 | G34: 10 | H34: 0 | I34: 2 | J34: =D34+G34+H34+I34 -> 99
A35: 4 | B35: D | C35: =3+24+24+24+24 -> 99 | D35: 84 | E35: 0 | F35: 0 | G35: 9 | H35: 1 | I35: 5 | J35: =D35+G35+H35+I35 -> 99
A36: 5 | B36: E | C36: =6+16+16+16+16 -> 70 | D36: 63 | E36: 0 | F36: 0 | G36: 2 | H36: 0 | I36: 5 | J36: =D36+G36+H36+I36 -> 70
A37: Total | C37: =SUM(Sheet1!$C$32:$C$36) -> 466 | D37: =SUBTOTAL(109,D32:D36) -> 384 | E37: =SUM(E32:E36) -> 0 | F37: =SUM(F32:F36) -> 0 | G37: =SUM(G32:G36) -> 61 | H37: =SUM(H32:H36) -> 1 | I37: =SUM(I32:I36) -> 20 | J37: =SUM(J32:J36) -> 466
A39: Keterangan : Laporan tersebut didasarkan pada perhitungan tiap akhir bulan
A42: LAPORAN REKAPAN DATA JUMLAH PENGHUNI
A43: RUSUNAWA WONOCOLO
A44: TAHUN 2025
A45: =$A$4 -> Bulan : Desember 2025
A46: No. | B46: Twin Blok | C46: Hunian | D46: Penghuni Sekarang | E46: Penghuni Masuk | F46: Penghuni Keluar | G46: Hunian Rusak | H46: Transit | I46: Hunian Tersedia | J46: TOTAL
A47: 1 | B47: A | C47: 99 | D47: 77 | E47: 0 | F47: 4 | G47: 1 | H47: 5 | I47: 16 | J47: =D47+G47+H47+I47 -> 99
A48: 2 | B48: B | C48: 99 | D48: 75 | E48: 1 | F48: 1 | G48: 4 | H48: 4 | I48: 16 | J48: =D48+G48+H48+I48 -> 99
A49: 3 | B49: C | C49: 99 | D49: 67 | E49: 1 | F49: 1 | G49: 0 | H49: 4 | I49: 28 | J49: =D49+G49+H49+I49 -> 99
A50: 4 | B50: D | C50: 99 | D50: 60 | E50: 0 | F50: 0 | G50: 0 | H50: 4 | I50: 35 | J50: =D50+G50+H50+I50 -> 99
A51: TOTAL | C51: =SUM(C47:C50) -> 396 | D51: =SUM(D47:D50) -> 279 | E51: =SUM(E47:E50) -> 2 | F51: =SUM(F47:F50) -> 6 | G51: =SUM(G47:G50) -> 5 | H51: =SUM(H47:H50) -> 17 | I51: =SUM(I47:I50) -> 95 | J51: =D51+G51+H51+I51 -> 396
A53: Keterangan : Laporan tersebut didasarkan pada perhitungan tiap akhir bulan
A56: LAPORAN REKAPAN DATA JUMLAH PENGHUNI
A57: RUSUNAWA TAMBAKSAWAH
A58: TAHUN 2025
A59: =$A$4 -> Bulan : Desember 2025
A60: No. | B60: Twin Blok | C60: Total Hunian | D60: Penghuni Sekarang | E60: Penghuni Masuk | F60: Penghuni Keluar | G60: Hunian Rusak | H60: Transit | I60: Hunian Tersedia | J60: TOTAL
A61: 1 | B61: A | C61: 48 | D61: 41 | E61: 0 | F61: 0 | G61: 0 | H61: 0 | I61: 7 | J61: =D61+G61+H61+I61 -> 48
A62: 2 | B62: B | C62: 48 | D62: 33 | E62: 2 | F62: 0 | G62: 0 | H62: 0 | I62: 15 | J62: =D62+G62+H62+I62 -> 48
A63: 3 | B63: C | C63: 48 | D63: 32 | E63: 0 | F63: 0 | G63: 0 | H63: 0 | I63: 16 | J63: =D63+G63+H63+I63 -> 48
A64: 4 | B64: D | C64: 48 | D64: 36 | E64: 0 | F64: 0 | G64: 0 | H64: 0 | I64: 12 | J64: =D64+G64+H64+I64 -> 48
A65: 5 | B65: E | C65: 48 | D65: 32 | E65: 0 | F65: 2 | G65: 0 | H65: 0 | I65: 16 | J65: =D65+G65+H65+I65 -> 48
A66: 6 | B66: F | C66: 48 | D66: 26 | E66: 0 | F66: 0 | G66: 0 | H66: 0 | I66: 22 | J66: =D66+G66+H66+I66 -> 48
A67: 7 | B67: G | C67: 48 | D67: 30 | E67: 0 | F67: 0 | G67: 0 | H67: 0 | I67: 18 | J67: =D67+G67+H67+I67 -> 48
A68: 8 | B68: H | C68: 48 | D68: 33 | E68: 0 | F68: 0 | G68: 0 | H68: 0 | I68: 15 | J68: =D68+G68+H68+I68 -> 48
A69: 9 | B69: KIOS | C69: 16 | D69: 6 | E69: 0 | F69: 0 | G69: 0 | H69: 0 | I69: 10 | J69: =D69+G69+H69+I69 -> 16
A70: TOTAL | C70: =SUM(C61:C69) -> 400 | D70: =SUM(D61:D69) -> 269 | E70: 2 | F70: 1 | G70: 0 | H70: =SUM(H61:H69) -> 0 | I70: =SUM(I61:I69) -> 131 | J70: =SUM(J61:J69) -> 400
A72: Keterangan : Laporan tersebut didasarkan pada perhitungan tiap akhir bulan
A75: LAPORAN REKAPAN DATA JUMLAH PENGHUNI
A76: RUSUNAWA TAMBAKKEMERAKAN
A77: TAHUN 2025
A78: =$A$4 -> Bulan : Desember 2025
A79: No. | B79: Twin Blok | C79: Hunian | D79: Penghuni Sekarang | E79: Penghuni Masuk | F79: Penghuni Keluar | G79: Hunian Rusak | H79: Transit | I79: Hunian Tersedia | J79: TOTAL
A80: 1 | B80: A | C80: 110 | D80: 21 | E80: 0 | F80: 0 | G80: 0 | H80: 5 | I80: 12 | J80: =D80+G80+H80+I80 -> 38
A81: TOTAL | C81: =SUM(C80:C80) -> 110 | D81: =SUM(D80:D80) -> 21 | E81: =SUM(E80:E80) -> 0 | F81: =SUM(F80:F80) -> 0 | G81: =SUM(G80:G80) -> 0 | H81: =SUM(H80:H80) -> 5 | I81: =SUM(I80:I80) -> 12 | J81: =D81+G81+H81+I81 -> 38
A83: =SUM(A80,A69,A50,A36,A21,A8) -> 25
