Workbook

Sheet rekap
A1: REKAP LAPORAN REKAPAN DATA JUMLAH PENGHUNI RUSUNAWA
A2: TAHUN 2025 (Triwulan 2)
A3: No | B3: Rusunawa | C3: Hunian Total | D3: Hunian Emergency / Rusak | E3: Jumlah Terhuni | F3: Persentanse Terhuni
A4: 1 | B4: Bulusidokare | C4: =Sheet1!C9 -> 226 | D4: =SUM(Sheet1!G9:H9) -> 83 | E4: =Sheet1!D9 -> 115 | F4: =(E4/(C4-D4))*100 -> 80.41958
A5: 2 | B5: Pucang | C5: =Sheet1!C22 -> 297 | D5: =SUM(Sheet1!G22,Sheet1!H22) -> 11 | E5: =Sheet1!D22 -> 221 | F5: =(E5/(C5-D5))*100 -> 77.272727
A6: 3 | B6: Ngelom | C6: =Sheet1!C37 -> 466 | D6: =SUM(Sheet1!G37,Sheet1!H37) -> 62 | E6: =Sheet1!D37 -> 384 | F6: =(E6/(C6-D6))*100 -> 95.049505
A7: 4 | B7: Wonocolo | C7: =Sheet1!C51 -> 396 | D7: =SUM(Sheet1!G51:H51) -> 22 | E7: =Sheet1!D51 -> 279 | F7: =(E7/(C7-D7))*100 -> 74.59893
A8: 5 | B8: Tambaksawah | C8: =Sheet1!C70 -> 400 | D8: =SUM(Sheet1!G70,Sheet1!H70) -> 0 | E8: =Sheet1!D70 -> 269 | F8: =(E8/(C8-D8))*100 -> 67.25
A9: 6 | B9: Tambakkemerakan | C9: =Sheet1!C81 -> 110 | D9: =SUM(Sheet1!G81:H81) -> 5 | E9: =Sheet1!D81 -> 21 | F9: =(E9/(C9-D9))*100 -> 20
B10: TOTAL | C10: =SUM(C4:C9) -> 1895 | D10: =SUM(D4:D9) -> 183 | E10: =SUM(E4:E9) -> 1289 | F10: =(E10/(C10-D10))*100 -> 75.292056

Sheet Sheet1
A1: LAPORAN REKAPAN DATA JUMLAH PENGHUNI
A2: RUSUNAWA Bulusidokare
A3: TAHUN 2025
A4: Bulan : Desember 2025
A5: No. | B5: Twin Blok | C5: Hunian | D5: Penghuni Sekarang | E5: Penghuni Masuk | F5: Penghuni Keluar | G5: Hunian Rusak | H5: Transit | I5: Hunian Tersedia | J5: TOTAL
A6: 1 | B6: A | C6: 58 | D6: 0 | E6: 0 | F6: 0 | G6: 58 | H6: 0 | I6: 0 | J6: =D6+G6+H6+I6 -> 58
A7: 2 | B7: B | C7: 99 | D7: 54 | E7: 0 | F7: 2 | G7: 20 | I7: 25 | J7: =D7+G7+H7+I7 -> 99
A8: 3 | B8: C | C8: 69 | D8: 61 | E8: 2 | F8: 0 | G8: 5 | I8: 3 | J8: =D8+G8+H8+I8 -> 69
A9: TOTAL | C9: =SUM(C6:C8) -> 226 | D9: =SUM(D6:D8) -> 115 | E9: =SUM(E6:E8) -> 2 | F9: =SUM(F6:F8) -> 2 | G9: =SUM(G6:G8) -> 83 | H9: =SUM(H6:H8) -> 0 | I9: =SUM(I6:I8) -> 28 | J9: =D9+G9+H9+I9 -> 226 | K9: 0.52
A11: Keterangan : Laporan tersebut didasarkan pada perhitungan tiap akhir bulan
A14: LAPORAN REKAPAN DATA JUMLAH PENGHUNI
A15: RUSUNAWA Pucang
A16: TAHUN 2025
A17: =$A$4 -> Bulan : Desember 2025
A18: No. | B18: Twin Blok | C18: Hunian | D18: Penghuni Sekarang | E18: Penghuni Masuk | F18: Penghuni Keluar | G18: Hunian Rusak | H18: Transit | I18: Hunian Tersedia | J18: TOTAL
A19: 1 | B19: A | C19: 99 | D19: 77 | E19: 0 | F19: 1 | G19: 4 | H19: 0 | I19: 18 | J19: =D19+G19+H19+I19 -> 99
A20: 2 | B20: B | C20: 99 | D20: 71 | E20: 0 | F20: 1 | G20: 2 | H20: 0 | I20: 26 | J20: =D20+G20+H20+I20 -> 99
A21: 3 | B21: C | C21: 99 | D21: 73 | E21: 1 | F21: 4 | G21: 5 | H21: 0 | I21: 21 | J21: =D21+G21+H21+I21 -> 99
A22: TOTAL | C22: =SUM(C19:C21) -> 297 | D22: =SUM(D19:D21) -> 221 | E22: =SUM(E19:E21) -> 1 | F22: =SUM(F19:F21) -> 6 | G22: =SUM(G19:G21) -> 11 | H22: =SUM(H19:H21) -> 0 | I22: =SUM(I19:I21) -> 65 | J22: =D22+G22+H22+I22 -> 297
A24: Keterangan : Laporan tersebut didasarkan pada perhitungan tiap akhir bulan
A27: LAPORAN REKAPAN DATA JUMLAH PENGHUNI
A28: RUSUNAWA NGELOM
A29: TAHUN 2025
A30: =$A$4 -> Bulan : Desember 2025
A31: No. | B31: Twin Blok | C31: Jumlah Hunian total | D31: Penghuni Sekarang | E31: Penghuni Masuk | F31: Penghuni Keluar | G31: Hunian Rusak | H31: Transit | I31: Hunian Tersedia | J31: TOTAL
A32: 1 | B32: A | C32: =3+24+24+24+24 -> 99 | D32: 75 | E32: 0 | F32: 0 | G32: 23 | H32: 0 | I32: 1 | J32: =D32+G32+H32+I32 -> 99
A33: 2 | B33: B | C33: =3+24+24+24+24 -> 99 | D33: 75 | E33: 0 | F33: 0 | G33: 17 | H33: 0 | I33: 7 | J33: =D33+G33+H33+I33 -> 99
A34: 3 | B34: C | C34: =3+24+24+24+24 -> 99 | D34: 87 | E34: 0 | F34: 0 | G34: 10 | H34: 0 | I34: 2 | J34: =D34+G34+H34+I34 -> 99
A35: 4 | B35: D | C35: =3+24+24+24+24 -> 99 | D35: 84 | E35: 0 | F35: 0 | G35: 9 | H35: 1 | I35: 5 | J35: =D35+G35+H35+I35 -> 99
A36: 5 | B36: E | C36: =6+16+16+16+16 -> 70 | D36: 63 | E36: 0 | F36: 0 | G36: 2 | H36: 0 | I36: 5 | J36: =D36+G36+H36+I36 -> 70
A37: Total | C37: =SUM(Sheet1!$C$32:$C$36) -> 466 | D37: =SUBTOTAL(109,D32:D36) -> 384 | E37: =SUM(E32:E36) -> 0 | F37: =SUM(F32:F36) -> 0 | G37: =SUM(G32:G36) -> 61 | H37: =SUM(H32:H36) -> 1 | I37: =SUM(I32:I36) -> 20 | J37: =SUM(J32:J36) -> 466
A39: Keterangan : Laporan tersebut didasarkan pada perhitungan tiap akhir bulan
A42: LAPORAN REKAPAN DATA JUMLAH PENGHUNI
A43: RUSUNAWA WONOCOLO
A44: TAHUN 2025
A45: =$A$4 -> Bulan : Desember 2025
A46: No. | B46: Twin Blok | C46: Hunian | D46: Penghuni Sekarang | E46: Penghuni Masuk | F46: Penghuni Keluar | G46: Hunian Rusak | H46: Transit | I46: Hunian Tersedia | J46: TOTAL
A47: 1 | B47: A | C47: 99 | D47: 77 | E47: 0 | F47: 4 | G47: 1 | H47: 5 | I47: 16 | J47: =D47+G47+H47+I47 -> 99
A48: 2 | B48: B | C48: 99 | D48: 75 | E48: 1 | F48: 1 | G48: 4 | H48: 4 | I48: 16 | J48: =D48+G48+H48+I48 -> 99
A49: 3 | B49: C | C49: 99 | D49: 67 | E49: 1 | F49: 1 | G49: 0 | H49: 4 | I49: 28 | J49: =D49+G49+H49+I49 -> 99
...
